BEGIN:VCALENDAR
VERSION:2.0
PRODID:-//wp-events-plugin.com//7.1.7//EN
TZID:Europe/Lisbon
X-WR-TIMEZONE:Europe/Lisbon
BEGIN:VEVENT
UID:156@amram.pt
DTSTART;TZID=Europe/Lisbon:20201210T090000
DTEND;TZID=Europe/Lisbon:20201210T180000
DTSTAMP:20201209T090755Z
URL:https://www.amram.pt/events/15-inovacao-e-modernizacao-administrativa/
SUMMARY:15 - INOVAÇÃO E MODERNIZAÇÃO ADMINISTRATIVA
DESCRIPTION:OBJETIVOS \n\n 	Constitui-se como objetivo desta ação de form
 ação analisar as principais tendências inovadoras da Administração P
 ública contemporânea. Pretende-se que os participantes adquiram conhecim
 entos práticos de aplicação de modelos de gestão pública\; procedam 
 à análise comparativa de casos inovadores relativos ao funcionamento da 
 administração pública\, prazos\, processos de decisão\, atendimento ao
  público\, diminuição dos circuitos processuais\, etc. e se familiarize
 m com conceitos e exemplos de gestão pública.\n\nPROGRAMA\n\nI - Introdu
 ção. Tendências na AP contemporânea: Mudanças nos recursos humanos da
  Administração Pública.\n\nII - Gestão da Mudança e Inovação Organi
 zacional: A estratégia organizativa no setor público\n\nIII - Funções 
 e Técnicas de Gestão Política: Mobilização de Apoios e Legitimidade. 
 Prestação de Contas. Promoção\, Negociação e Liderança.\n\nIV - Pri
 ncipais resultados das reformas: Definição do Valor Público. Ganhos de 
 eficiência. Ganhos de eficácia. Satisfação dos cidadãos e confiança.
 \n\nV - Modelos inovadores de reforma na gestão pública: Atuação numa 
 Sociedade Dividida e Incerta. Desafios Éticos de Liderança Política.\n\
 nVI - Debate e exercícios práticos\n\nFORMADORA\n\nDra. Maria Asensio Me
 nchero\n\nSíntese Curricular \n\n 	Doutora em Ciências Políticas e Soci
 ologia. Título da Tese: El Proceso de Reforma del Sector Público en el S
 ur de Europa: Estudio Comparado de España y Portugal\, 1994 a 2001\;\n 	M
 estre em Ciências Sociais pelo Centro de Estudios Avanzados en Ciencias S
 ociales\;\n 	Licenciatura em Sociologia\;\n 	Atualmente é Investigadora P
 rincipal da Direção-Geral da Administração e do Emprego Público e Pro
 fessora Associada Convidada no Instituto Superior de Ciências Sociais e P
 olíticas (ISCSP)\, Universidade de Lisboa nas áreas da Gestão e Políti
 cas Públicas\;\n 	Especialista nacional e internacional em matéria de po
 líticas públicas e gestão de políticas\, particularmente\, em temas de
  políticas públicas\, cidadania e gestão pública com governos nacionai
 s e regionais\;\n 	Elaboração de Projetos de Investigação e Estudos so
 bre a Administração Pública\;\n 	Participação em várias equipas de a
 valiação de políticas públicas\;\n 	Formadora nas áreas de políticas
  públicas e gestão pública desde 2000.\n\nDESTINATÁRIOS\n\nMUNICÍPIOS
  DA RAM: Eleitos\, Dirigentes e Quadros das Autarquias e das Empresas Muni
 cipais\n\nHORÁRIO\n\n9h00 Início dos trabalhos             
          14h00 Reinício\n\n11h00 Pausa para café        
                  16h00 Pausa para café\n\n13h00 Pausa para
  almoço livre           18h00 Encerramento\n\nINSCRIÇÕES\n\nA
 té dois participantes por Município.\n\nAs inscrições devem ser feitas
  até ao dia 03 de dezembro de 2020.\n\n(Só serão aceites mais do que 2 
 participantes por Município\, caso não estejam preenchidas\, naquela dat
 a\, o número limite de inscrições\, sendo dada prioridade à ordem de r
 eceção das inscrições).\n\nInclui:\n\n 	Documentação\;\n 	Certificad
 o de participação.\n\nCANCELAMENTO DA AÇÃO\n\nA AMRAM reserva-se o dir
 eito de cancelar a ação\, caso o número mínimo de participantes não s
 eja atingido\, ou por outra razão que justifique a sua não realização.
 \n\nINFORMAÇÕES\n\nDra. Zélia Rodrigues\n\nTelef.: 291 200 730\n\nCOVI
 D-19\n\nOs formandos que participem na formação deverão adotar as regra
 s já conhecidas de etiqueta respiratória (uso de máscara) e de distanci
 amento social\, assegurando as medidas e cuidados necessários à proteç
 ão individual e coletiva.\n\n
ATTACH;FMTTYPE=image/jpeg:https://www.amram.pt/wp-content/uploads/student-
 849825_1920.jpg
LOCATION:Câmara Municipal do Funchal - Sala da Assembleia Municipal\, Pra
 ça do Município\, Funchal\, Portugal
X-APPLE-STRUCTURED-LOCATION;VALUE=URI;X-ADDRESS=Praça do Município\, Func
 hal\, Portugal;X-APPLE-RADIUS=100;X-TITLE=Câmara Municipal do Funchal - S
 ala da Assembleia Municipal:geo:0,0
END:VEVENT
BEGIN:VTIMEZONE
TZID:Europe/Lisbon
X-LIC-LOCATION:Europe/Lisbon
BEGIN:STANDARD
DTSTART:20201025T010000
TZOFFSETFROM:+0100
TZOFFSETTO:+0000
TZNAME:WET
END:STANDARD
END:VTIMEZONE
END:VCALENDAR