BEGIN:VCALENDAR
VERSION:2.0
PRODID:-//wp-events-plugin.com//7.1.7//EN
TZID:Europe/Lisbon
X-WR-TIMEZONE:Europe/Lisbon
BEGIN:VEVENT
UID:125@amram.pt
DTSTART;TZID=Europe/Lisbon:20190124T090000
DTEND;TZID=Europe/Lisbon:20190124T180000
DTSTAMP:20190118T145813Z
URL:https://www.amram.pt/events/18-protecao-de-dados-pessoais-em-contexto-
 laboral-tratamentos-dos-dados-pessoais-dos-trabalhadores-das-autarquias/
SUMMARY:18-PROTEÇÃO DE DADOS PESSOAIS EM CONTEXTO LABORAL (TRATAMENTOS DO
 S DADOS PESSOAIS DOS TRABALHADORES DAS AUTARQUIAS)
DESCRIPTION:OBJETIVOS \n\n\n\nReconhecer os tratamentos de dados especiais 
 ou sensíveis\n\nIdentificar medidas de proteção da privacidade no trata
 mento de dados de trabalhadores\n\nCapacitar para a minimização dos ris
 cos de quebra de privacidade\n\n&nbsp\;\n\n\n\nPROGRAMA\n\n 	\n\n 	O RGPD 
 - Princípios aplicáveis aos tratamentos de dados nas relações laborais
 \n 	Dados especiais e PIA’s (Privacy Imapcte Assessement)\n 	Direitos do
 s trabalhadores e novas obrigações das autarquias locais\n 	A figura do 
 DPO (Data Protection Officer) e da autoridade de controlo\n 	Os sistemas d
 e informação e medidas de proteção (Privacy by design e privacy by def
 ault)\n\n\n\nFORMADORA\n\nDra. Maria José Guedes\n\nSíntese Curricular \
 n\n 	Licenciada em Direito\, pela Universidade Católica Portuguesa\, Port
 o\, 1991\;\n 	Curso de Formação Pedagógica Inicial de Formadores\, 2003
 \;\n 	Pós-Graduação em Direito dos Contratos e do Consumo\, ministrado 
 pela Faculdade de Direito da Universidade de Coimbra\, 2012\;\n 	Mestrado 
 em Direito Administrativo e Fiscal na Universidade Lusíada – Porto\,\n 
 	Técnica Superior Consultora Jurídica no Departamento Municipal Jurídic
 o e de Contencioso desde 2006\;\n 	Chefe da Divisão de Serviços Administ
 rativos dos Serviços Municipalizados de Águas e Saneamento do Município
  do Porto de 2003 a 2006\;\n 	Técnica Superior Consultora Jurídica nos S
 erviços Municipalizados de Águas e Saneamento do Município do Porto de 
 2002 a 2003\;\n 	Técnica Superior Consultora Jurídica na Direção Munic
 ipal de Habitação e Desenvolvimento Social da Câmara Municipal do Porto
  de 1998 a 2002\;\n 	Responsável pela assessoria jurídica do Grupo de Tr
 abalho para a implementação do Regulamento Geral de Proteção de Dados 
 na Câmara Municipal do Porto\;\n 	Formadora na área da proteção de dad
 os e implementação do Regulamento Geral de Proteção de Dados.\n\nDESTI
 NATÁRIOS\n\nMUNICÍPIOS DA RAM: Eleitos\, Dirigentes e Quadros das Autarq
 uias e das Empresas Municipais\n\nLOCAL DE REALIZAÇÃO     \n\nEdifí
 cio Sede da AMRAM – Associação de Municípios da Região Autónoma da 
 Madeira * Rua da Mouraria n.º 44 e 46 * 9004-508 Funchal.\n\nHORÁRIO\n\n
 9h00 Início dos trabalhos               14h00 Reinício\n\n
 11h00 Pausa para café                 16h00 Pausa para ca
 fé\n\n13h00 Pausa para almoço livre    18h00 Encerramento\n\nINSCRIÇ
 ÕES\n\nAs inscrições devem ser feitas até ao dia 17 de janeiro de 2019
 .\n\nInclui:\n\n 	Documentação\;\n 	Certificado de participação.\n\nCA
 NCELAMENTO DA AÇÃO\n\nA AMRAM reserva-se o direito de cancelar a ação\
 , caso o número mínimo de participantes não seja atingido\, ou por outr
 a razão que justifique a sua não realização.\n\nINFORMAÇÕES\n\nDra. 
 Zélia Rodrigues\n\nTelef.: 291 200 730\n\n
ATTACH;FMTTYPE=image/jpeg:https://www.amram.pt/wp-content/uploads/StockSna
 p_XGXORJWZIX_edited.jpg
LOCATION:AMRAM\, Rua da Mouraria 44-46\, Funchal\, Madeira\, 9004-508\, Por
 tugal
GEO:32.649429;-16.912119
X-APPLE-STRUCTURED-LOCATION;VALUE=URI;X-ADDRESS=Rua da Mouraria 44-46\, Fun
 chal\, Madeira\, 9004-508\, Portugal;X-APPLE-RADIUS=100;X-TITLE=AMRAM:geo:
 32.649429,-16.912119
END:VEVENT
BEGIN:VTIMEZONE
TZID:Europe/Lisbon
X-LIC-LOCATION:Europe/Lisbon
BEGIN:STANDARD
DTSTART:20181028T010000
TZOFFSETFROM:+0100
TZOFFSETTO:+0000
TZNAME:WET
END:STANDARD
END:VTIMEZONE
END:VCALENDAR