BEGIN:VCALENDAR
VERSION:2.0
PRODID:-//wp-events-plugin.com//7.1.7//EN
TZID:Europe/Lisbon
X-WR-TIMEZONE:Europe/Lisbon
BEGIN:VEVENT
UID:234@amram.pt
DTSTART;TZID=Europe/Lisbon:20250123T090000
DTEND;TZID=Europe/Lisbon:20250123T173000
DTSTAMP:20241209T113649Z
URL:https://www.amram.pt/events/20-horarios-de-trabalho-aplicacao-pratica/
SUMMARY:19 – HORÁRIOS DE TRABALHO – APLICAÇÃO PRÁTICA
DESCRIPTION:OBJETIVOS\n• Conhecer o tipo de horários que é possível\, 
 legalmente\, definir no seio da organização pública\;\n• Compreender 
 que\, de acordo com as atividades dos diferentes serviços\, deverá proce
 der-se a um ajustamento do referido horário\;\n• Compreender as consequ
 ências legais e financeiras decorrentes da aplicação dos diferentes hor
 ários de trabalho.\n\nPROGRAMA\n1 - HORÁRIOS DE TRABALHO NA FUNÇÃO PÚ
 BLICA\n1.1 - Tipo de horários de trabalho e sua caraterização.\n2 - APL
 ICAÇÃO PRÁTICA DOS DIFERENTES HORÁRIOS DE TRABALHO\n2.1 - Como definir
  os horários de trabalho para cada situação concreta\;\n2.2 - Caraterí
 sticas de cada horário face ao tipo de serviço.\n3 - VANTAGENS E DESVANT
 AGENS PARA CADA TIPO DE HORÁRIO DE TRABALHO\n3.2 - Encargos decorrentes d
 os diferentes tipos de horário de trabalho\;\n3.3 - Tramitação legal in
 erente ao respetivo horário.\n\nFORMADORA\nDra. Cristina Andrade\nSíntes
 e Curricular\n Atualmente é Diretora-Delegada dos Serviços Municipali
 zados de Águas e Saneamento da Câmara Municipal da Maia\;\n Foi Diret
 ora do Departamento de Recursos Humanos da Câmara Municipal de Matosinhos
  de 2005 até maio 2023\;\n Consultora Jurídica do Quadro de Pessoal d
 os Serviços Municipalizados de Águas e Saneamento de Matosinhos (2004)\;
 \n Licenciatura em Direito Universidade Católica (Porto)\;\n Pós-G
 raduação em Direito Administrativo e Administração Pública\;\n Mes
 tre em Economia e Gestão de Recursos Humanos – Faculdade de Economia da
  Universidade do Porto\;\n Formadora desde 2000 para a Administração 
 Local na área da Gestão dos Recursos Humanos.\n\nDESTINATÁRIOS\nMUNICÍ
 PIOS DA RAM: Eleitos\, Dirigentes e Quadros das Autarquias e das Empresas 
 Municipais\n\nHORÁRIO\n9h00 Início dos trabalhos 14h00 Reinício\n11h00 
 Pausa para café 16h00 Pausa para café\n12h30 Pausa para almoço livre 17
 h30 Encerramento\n\nINSCRIÇÕES\nAté dois participantes por Município.\
 nAs inscrições devem ser feitas até ao dia 16 de janeiro de 2025.\n[Só
  serão aceites mais do que 3 participantes por Município\, caso não est
 ejam preenchidas\, naquela data\, o número limite de inscrições\, sendo
  dada prioridade à ordem de receção das inscrições].\nInclui:\nDocume
 ntação\;\nCertificado de participação.\n\nCANCELAMENTO DA AÇÃO\nA AM
 RAM reserva-se o direito de cancelar a ação\, caso o número mínimo de 
 participantes não seja atingido\, ou por outra razão que justifique a su
 a não realização.\n\nINFORMAÇÕES\nDra. Zélia Rodrigues\nTelef.: 291 
 200 730\n\n
ATTACH;FMTTYPE=image/jpeg:https://www.amram.pt/wp-content/uploads/top-view
 -calendar-watch-arrangement-1-scaled.jpg
LOCATION:Câmara Municipal do Funchal - Sala da Assembleia Municipal\, Pra
 ça do Município\, Funchal\, Portugal
X-APPLE-STRUCTURED-LOCATION;VALUE=URI;X-ADDRESS=Praça do Município\, Func
 hal\, Portugal;X-APPLE-RADIUS=100;X-TITLE=Câmara Municipal do Funchal - S
 ala da Assembleia Municipal:geo:0,0
END:VEVENT
BEGIN:VTIMEZONE
TZID:Europe/Lisbon
X-LIC-LOCATION:Europe/Lisbon
BEGIN:STANDARD
DTSTART:20241027T010000
TZOFFSETFROM:+0100
TZOFFSETTO:+0000
TZNAME:WET
END:STANDARD
END:VTIMEZONE
END:VCALENDAR