BEGIN:VCALENDAR
VERSION:2.0
PRODID:-//wp-events-plugin.com//7.1.7//EN
TZID:Europe/Lisbon
X-WR-TIMEZONE:Europe/Lisbon
BEGIN:VEVENT
UID:236@amram.pt
DTSTART;TZID=Europe/Lisbon:20250220T090000
DTEND;TZID=Europe/Lisbon:20250220T173000
DTSTAMP:20250217T122123Z
URL:https://www.amram.pt/events/22-analise-de-propostas-na-contratacao-pub
 lica-abordagem-pratica/
SUMMARY:22 – ANÁLISE DE PROPOSTAS NA CONTRATAÇÃO PÚBLICA – ABORDAGE
 M PRÁTICA
DESCRIPTION:OBJETIVOS\n\n• Pretende-se analisar a complexidade da propost
 a e a sua importância no processo de formação do contrato\, debatendo m
 otivos de exclusão e admissão.\n\nPROGRAMA\n\n1. NOÇÃO DE PROPOSTA\n2.
  DOCUMENTOS QUE CONSTITUEM A PROPOSTA\n• Os documentos exigidos no convi
 te e programa\;\n• Os documentos exigíveis.\n3. VALIDADE DA PROPOSTA\n4
 . CRITÉRIOS DE ANÁLISE DA PROPOSTA E DEMAIS DOCUMENTOS\n• Parâmetros 
 base\;\n• Atributos\;\n• Termos e condições.\n5. ANÁLISE DA PROPOST
 A\n6. AVALIAÇÃO DA PROPOSTA\n7. SUPRIMENTO DE ERROS E ESCLARECIMENTOS 
 – A IMUTABILIDADE DA PROPOSTA\n8. ANÁLISE DE JURISPRUDÊNCIA\n9. DEBATE
 \n\nFORMADORA\nDra. Andreia Magalhães\nSíntese Curricular\n\nLicenciatur
 a em Direito\;\nPós-Graduada em Contratos em Especial\;\nPós-graduada em
  Gestão de Compras Abastecimentos\, pela Porto Business School\;\nAtualme
 nte é Diretora do Serviço de Compras e Gestão Contratual dos Serviços 
 Partilhados da Universidade do Porto\;\nDe novembro de 2016 a julho de 202
 1 foi na Universidade do Porto Chefe da Unidade de Compras dos Serviços P
 artilhados (U.PORTO)\;\nDe 2013 a novembro de 2016 integrou o Instituto de
  Conservação da Natureza e das Florestas (ICNF\, I.P.) – Chefe do Gabi
 nete de Auditoria e Qualidade\;\nDe 1999 a 2012 integrou o Departamento Mu
 nicipal Jurídico e de Contencioso da Câmara Municipal do Porto\, afeta a
 o Gabinete Jurídico da Divisão Municipal de Compras\, como Técnica Supe
 rior Consultora Jurídica na área da contratação pública\;\nA atividad
 e de formadora na área das autarquias locais é exercida desde 2001\;\nFo
 rmadora especializada na área da Contratação Pública.\nDESTINATÁRIOS\
 nMUNICÍPIOS DA RAM: Eleitos\, Dirigentes e Quadros das Autarquias e das E
 mpresas Municipais\n\nHORÁRIO\n9h00 Início dos trabalhos 14h00 Reinício
 \n11h00 Pausa para café 16h00 Pausa para café\n12h30 Pausa para almoço 
 livre 17h30 Encerramento\n\nINSCRIÇÕES\nAté dois participantes por Muni
 cípio.\nAs inscrições devem ser feitas até ao dia 13 de fevereiro de 2
 025.\n[Só serão aceites mais do que 3 participantes por Município\, cas
 o não estejam preenchidas\, naquela data\, o número limite de inscriçõ
 es\, sendo dada prioridade à ordem de receção das inscrições].\n\nInc
 lui:\nDocumentação\;\nCertificado de participação.\n\nCANCELAMENTO DA 
 AÇÃO\nA AMRAM reserva-se o direito de cancelar a ação\, caso o número
  mínimo de participantes não seja atingido\, ou por outra razão que jus
 tifique a sua não realização.\n\nINFORMAÇÕES\nDra. Zélia Rodrigues\n
 Telef.: 291 200 730\n\n
ATTACH;FMTTYPE=image/jpeg:https://www.amram.pt/wp-content/uploads/startup-
 mulher-de-negocios-trabalhando-com-documentos-empresariais_1421-518.jpg
LOCATION:Câmara Municipal do Funchal - Sala da Assembleia Municipal\, Pra
 ça do Município\, Funchal\, Portugal
X-APPLE-STRUCTURED-LOCATION;VALUE=URI;X-ADDRESS=Praça do Município\, Func
 hal\, Portugal;X-APPLE-RADIUS=100;X-TITLE=Câmara Municipal do Funchal - S
 ala da Assembleia Municipal:geo:0,0
END:VEVENT
BEGIN:VTIMEZONE
TZID:Europe/Lisbon
X-LIC-LOCATION:Europe/Lisbon
BEGIN:STANDARD
DTSTART:20241027T010000
TZOFFSETFROM:+0100
TZOFFSETTO:+0000
TZNAME:WET
END:STANDARD
END:VTIMEZONE
END:VCALENDAR