BEGIN:VCALENDAR
VERSION:2.0
PRODID:-//wp-events-plugin.com//7.1.7//EN
TZID:Europe/Lisbon
X-WR-TIMEZONE:Europe/Lisbon
BEGIN:VEVENT
UID:168@amram.pt
DTSTART;TZID=Europe/Lisbon:20210921T090000
DTEND;TZID=Europe/Lisbon:20210921T180000
DTSTAMP:20210916T145351Z
URL:https://www.amram.pt/events/25-implementacao-de-sistemas-de-gestao-amb
 iental/
SUMMARY:25 – IMPLEMENTAÇÃO DE SISTEMAS DE GESTÃO AMBIENTAL
DESCRIPTION:OBJETIVOS \n\n 	Entender o conceito de Sistema de Gestão Ambie
 ntal\n 	Reconhecer a importância da integração de diferentes sistemas d
 e gestão\n 	Interpretar os requisitos definidos na Norma ISO 14001 e EMAS
  - Sistema Português de Ecogestão e Auditoria\n 	Identificar a documenta
 ção necessária à implementação Norma ISO 14001 e EMAS\n 	Implementar
  Sistema de Gestão Ambiental\n\n PROGRAMA\n\n 	Sistema de Gestão Ambien
 tal. Conceito e aplicabilidade\;\n 	Analise Swot da implementação de sis
 temas de gestão ambiental\n 	Apresentação dos requisitos da Norma ISO 1
 4001\n 	Diferentes etapas para Implementação do Sistema pela Norma ISO 1
 4001\n 	Apresentação dos requisitos para registo EMAS - Sistema Portugu
 ês de Ecogestão e Auditoria\n 	Aspetos comparativos da implementação d
 a Norma ISO 14001 e EMAS\n 	Como obter registo EMAS e organizações\n 	Ex
 emplos práticos de organizações certificados pela Norma ISO 14001 e reg
 isto EMAS\n\nFORMADOR\n\nDra. Hélia Faria\n\nSíntese Curricular \n\n 	Li
 cenciatura em Engenharia do Ambiente\, Universidade de Aveiro\, 1955.\n 	P
 ós-Graduação em Engenharia Humana\, Universidade do Minho\, 2010.\n 	Es
 pecialista em Higiene e Segurança no Trabalho\, Instituto Politécnico do
  Porto.\n 	Consultoria nas áreas de Gestão Ambiental e Higiene e Seguran
 ça no Trabalho\, desde 1999.\n 	Docente Ensino Superior desde 2010\, no M
 estrado Integrado Gestão de Qualidade\, Ambiente e Segurança e na Licenc
 iatura de Engenharia de Segurança no Trabalho\; Orientadora de Estágios 
 da Licenciatura de Engenharia de Segurança no Trabalho e de Tese do Mestr
 ado Integrado Gestão de Qualidade\, Ambiente e Segurança.\n 	Auditora da
  Associação Portuguesa de Certificação (APCER)\n 	Formadora certificad
 a desde 1998\, nas áreas de Gestão Ambiental\, Higiene e Segurança no T
 rabalho e Gestão da Saúde e Segurança.\n\nDESTINATÁRIOS\n\nMUNICÍPIOS
  DA RAM: Eleitos\, Dirigentes e Quadros das Autarquias e das Empresas Muni
 cipais\n\nHORÁRIO\n\n9h00 Início dos trabalhos             
          14h00 Reinício\n\n11h00 Pausa para café        
                  16h00 Pausa para café\n\n13h00 Pausa para
  almoço livre           18h00 Encerramento\n\nINSCRIÇÕES\n\nA
 té dois participantes por Município.\n\nAs inscrições devem ser feitas
  até ao dia 15 de setembro de 2021.\n\n(Só serão aceites mais do que 3 
 participantes por Município\, caso não estejam preenchidas\, naquela dat
 a\, o número limite de inscrições\, sendo dada prioridade à ordem de r
 eceção das inscrições).\n\nInclui:\n\n 	Documentação\;\n 	Certificad
 o de participação.\n\nCANCELAMENTO DA AÇÃO\n\nA AMRAM reserva-se o dir
 eito de cancelar a ação\, caso o número mínimo de participantes não s
 eja atingido\, ou por outra razão que justifique a sua não realização.
 \n\nINFORMAÇÕES\n\nDra. Zélia Rodrigues\n\nTelef.: 291 200 730\n\nCOVI
 D-19\n\nOs formandos que participem na formação deverão adotar as regra
 s já conhecidas de etiqueta respiratória (uso de máscara) e de distanci
 amento social\, assegurando as medidas e cuidados necessários à proteç
 ão individual e coletiva.\n\n
ATTACH;FMTTYPE=image/jpeg:https://www.amram.pt/wp-content/uploads/ba6b3bfd
 a7b131aafc0115bd8c6c9c72.jpg
END:VEVENT
BEGIN:VTIMEZONE
TZID:Europe/Lisbon
X-LIC-LOCATION:Europe/Lisbon
BEGIN:DAYLIGHT
DTSTART:20210328T020000
TZOFFSETFROM:+0000
TZOFFSETTO:+0100
TZNAME:WEST
END:DAYLIGHT
END:VTIMEZONE
END:VCALENDAR