BEGIN:VCALENDAR
VERSION:2.0
PRODID:-//wp-events-plugin.com//7.1.7//EN
TZID:Europe/Lisbon
X-WR-TIMEZONE:Europe/Lisbon
BEGIN:VEVENT
UID:171@amram.pt
DTSTART;TZID=Europe/Lisbon:20211116T090000
DTEND;TZID=Europe/Lisbon:20211124T173000
DTSTAMP:20211112T160828Z
URL:https://www.amram.pt/events/28-gestao-de-equipas/
SUMMARY:28 - GESTÃO DE EQUIPAS
DESCRIPTION:OBJETIVOS \n\n 	Compreender a natureza e os fatores críticos d
 e sucesso da gestão de equipas\;\n 	Identificar os diferentes estilos de 
 gestão e o seu impacto\;\n 	Conhecer os padrões de comportamento individ
 uais e a influência que exercem ao nível do trabalho em equipa\;\n 	Comp
 reender o funcionamento de uma equipa de trabalho e suas diferentes fases 
 de desenvolvimento\, de forma a posicionar-se como participante ativo\;\n 
 	Melhorar o nível de comunicação interpessoal de forma a garantir uma m
 aior eficácia e a criar um bom clima de trabalho\;\n 	Planificar as ativi
 dades de forma realista e respetivo controlo.\n\n PROGRAMA\n\n 	GESTÃO E
  ORIENTAÇÃO DE EQUIPAS\n\n 	Comunicação na equipa de trabalho\n 	Compe
 tências interpessoais de condução de equipas\n 	A orientação da equip
 a\n\n 	Comportamento de tarefa\n 	Comportamento de relação\n 	Flexibilid
 ade de estilo de condução da equipa\n\n\n 	A reunião no contexto da ges
 tão do tempo\, da planificação e da eficácia da equipa\n\n\n 	DESENVOL
 VIMENTO DAS EQUIPAS:\n\n 	Reconhecer a importância das pessoas para o suc
 esso das equipas e organizações\;\n 	Identificar a organização como um
  sistema de papéis e qual o papel de cada colaborador\;\n 	A dinâmica da
 s equipas\;\n 	Organização do trabalho de equipa\;\n 	Comunicar eficazme
 nte com a equipa o stress nas equipas e a sua gestão\;\n 	Fatores de suce
 sso nas equipas\;\n 	Gestão de conflitos em contexto de equipa\;\n\n\n 	A
  COMUNICAÇÃO\n\n 	Conceitos\, modelos e enquadramento\n 	Aptidões e hab
 ilidades envolvidas no processo comunicacional\n 	A comunicação não ver
 bal\n 	Comportamentos fundamentais para uma boa comunicação\n 	Funções
  da comunicação\n\n\n 	ORGANIZAÇÃO NO TRABALHO - EFICIÊNCIA E EFICÁC
 IA ORGANIZACIONAL\n\n 	O plano previsional de trabalho\n\n 	A gestão efic
 az do tempo.\n 	Planificação das atividades com base nas prioridades.\n 
 	Previsão dos imprevistos e das "urgências".\n 	Gestão das interrupçõ
 es diárias.\n 	Utilização da agenda como um recurso.\n 	Planificação 
 do mês\, da semana e do dia.\n\n\n 	Técnicas de racionalização do temp
 o\n 	A delegação\n 	A condução de reuniões\n\n\n\nFORMADOR\n\nDr. Lu
 ís Machado\n\nSíntese Curricular \n\n 	Licenciatura em Psicologia\, Univ
 ersidade do Minho\;\n 	Mestrado Integrado em Psicologia\, Universidade do 
 Minho\;\n 	Pós-Graduação em Psicoterapias Cognitivo Comportamentais\, I
 nstituto Português de Psicologia\;\n 	Coordenador\, desde 2014\, da Área
  de Saúde Mental e Diretor Técnico do Centro de Solidariedade de Braga\;
 \n 	Colaborador\, desde 2011\, na Unidade de Psicologia das Organizações
  do Serviço de Psicologia da Universidade do Minho\;\n 	Formador na área
  comportamental\, desde 2007\, em Municípios e outras entidades públicas
  e privadas no âmbito do desenvolvimento de competências de liderança e
  gestão de equipas\, trabalho em equipa\, atendimento ao público\, gest
 ão do tempo e organização do trabalho\, comunicação e avaliação psi
 cológica\;\n 	Consultor na criação e implementação de programas de de
 senvolvimento de competências comportamentais direcionados às organizaç
 ões\;\n 	Realização de Avaliações Psicológicas no âmbito de procedi
 mentos concursais para autarquias.\n\nDESTINATÁRIOS\n\nMUNICÍPIOS DA RAM
 : Eleitos\, Dirigentes e Quadros das Autarquias e das Empresas Municipais\
 n\nHORÁRIO\n\n9h00 Início dos trabalhos                
       14h00 Reinício\n\n11h00 Pausa para café           
               16h00 Pausa para café\n\n12h30 Pausa para almo
 ço livre           17h30 Encerramento\n\nINSCRIÇÕES\n\nAté d
 ois participantes por Município.\n\nAs inscrições devem ser feitas até
  ao dia 10 de novembro de 2021.\n\n(Só serão aceites mais do que 3 parti
 cipantes por Município\, caso não estejam preenchidas\, naquela data\, o
  número limite de inscrições\, sendo dada prioridade à ordem de receç
 ão das inscrições).\n\nInclui:\n\n 	Documentação\;\n 	Certificado de 
 participação.\n\nCANCELAMENTO DA AÇÃO\n\nA AMRAM reserva-se o direito 
 de cancelar a ação\, caso o número mínimo de participantes não seja a
 tingido\, ou por outra razão que justifique a sua não realização.\n\nI
 NFORMAÇÕES\n\nDra. Zélia Rodrigues\n\nTelef.: 291 200 730\n\nCOVID-19\
 n\nOs formandos que participem na formação deverão adotar as regras já
  conhecidas de etiqueta respiratória (uso de máscara) e de distanciament
 o social\, assegurando as medidas e cuidados necessários à proteção in
 dividual e coletiva.\n\n
ATTACH;FMTTYPE=image/jpeg:https://www.amram.pt/wp-content/uploads/leadersh
 ip-written-on-white-background-450w-1041252961.jpg
END:VEVENT
BEGIN:VTIMEZONE
TZID:Europe/Lisbon
X-LIC-LOCATION:Europe/Lisbon
BEGIN:STANDARD
DTSTART:20211031T010000
TZOFFSETFROM:+0100
TZOFFSETTO:+0000
TZNAME:WET
END:STANDARD
END:VTIMEZONE
END:VCALENDAR