BEGIN:VCALENDAR
VERSION:2.0
PRODID:-//wp-events-plugin.com//7.1.7//EN
TZID:Europe/Lisbon
X-WR-TIMEZONE:Europe/Lisbon
BEGIN:VEVENT
UID:11@amram.pt
DTSTART;TZID=Europe/Lisbon;VALUE=DATE:20080305
DTEND;TZID=Europe/Lisbon;VALUE=DATE:20080307
DTSTAMP:20150717T133715Z
URL:https://www.amram.pt/events/a-consolidacao-de-contas-nos-municipios/
SUMMARY:A Consolidação de contas nos municípios
DESCRIPTION:A CONSOLIDAÇÃO DE CONTAS NOS MUNICÍPIOS AMRAM\n5 e 6 de Mar
 ço de 2008\n\nPrograma\n1. ORIGEM DA NECESSIDADE DA CONSOLIDAÇÃO DE CON
 TAS NOS\nMUNICÍPIOS\n2. CONCEITOS FUNDAMENTAIS\n2.1. Conceito de consolid
 ação\n2.2. Objectivos da consolidação\n2.3. Limitações das contas co
 nsolidadas\n3. MÉTODOS DE CONSOLIDAÇÃO\n3.1. Caracterização\, especif
 icidades e principais diferenças\n3.1.1. Método de consolidação integr
 al\;\n3.1.2. Método de consolidação proporcional\;\n3.1.3. Método de e
 quivalência patrimonial\;\n3.1.4. Método da simples agregação previsto
  no POC\n4. CONSOLIDAÇÃO DE CONTAS NOS MUNICÍPIOS\n4.1. Referência a i
 nfluências normativas\n4.2. Quadro legal específico – aspectos gerais\
 n4.2.1. Preparação da consolidação\n4.2.1.1. Organigrama do grupo muni
 cipal\n4.2.1.2. Delimitação do perímetro de consolidação\n4.2.1.3. El
 aboração do manual de consolidação\n4.2.1.4. Ficheiro das entidades do
  grupo municipal\n4.2.1.5. Dossier de consolidação\n4.2.2. Homogeneizaç
 ão da informação\n4.2.3. Agregação de dados\n4.2.4. Identificação d
 as operações intra-grupo\n4.2.5. Verificação da compatibilização da 
 informação contabilística\nrelativa às operações intra-grupo\n4.2.6.
  Eliminação dos investimentos financeiros e apuramento das\ndiferenças 
 de consolidação\n4.2.7. Eliminações de operações internas\nENTIDADE 
 PROMOTORA ENTIDADE FORMADORA\nPROGRAMA: 6 de Março de 2008\n1. DEMONSTRA
 ÇÕES FINANCEIRAS CONSOLIDADAS\n1.1.Balanço consolidado\n1.2.Demonstraç
 ão de Resultados consolidado\n1.3.Anexo ao Balanço e à Demonstração d
 e Resultados consolidados\n2. PRINCIPAIS DIFICULDADES E PARTICULARIDADES N
 A ELABORAÇÃO\nDAS CONTAS CONSOLIDADAS DOS GRUPOS MUNICIPAIS\n2.1.Agrega
 ção dos dados provenientes de dois sistemas contabilísticos\ndiferentes
 \n2.2.Fragilidades ao nível da informação contabilística dos municípi
 os\n2.3.Inventariação e contabilização de imobilizado já executado so
 b a\nresponsabilidade das empresas\n2.4.Compatibilização da informação
  relativa a direitos e obrigações\nrecíprocas e outras operações inte
 rnas\n2.5.Homogeneização da informação - critérios de valorimetria\n2
 .6.Eliminação dos investimentos financeiros e apuramento das diferenças
 \nde consolidação\n2.7.Soluções diversas ao nível da contabilização
  dos empréstimos dos\nserviços municipalizados\n2.8.Subsídios ao invest
 imento (designadamente provenientes de fundos\ncomunitários) destinados a
 os serviços municipalizados\n2.9.Subsídios ao investimento atribuídos d
 irectamente pelos municípios às\nrestantes entidades do grupo municipal\
 n2.10.Cobrança por uma empresa municipal ou por um serviço\nmunicipaliza
 do de receitas que são da titularidade da autarquia\n2.11.Cobrança pelo 
 município de receitas da titularidade de uma empresa\nmunicipal ou de um 
 serviço municipalizado\n3. RESOLUÇÃO DE UM CASO PRÁTICO: ANÁLISE COMP
 ARATIVA DA\nSITUAÇÃO FINANCEIRA DO MUNICÍPIO NUMA ÓPTICA INDIVIDUAL\nE
  NUMA ÓPTICA DE GRUPO\n\n\n\nFormador\nDr. Alexandre Virgílio Tomás Ama
 do\nInspector de Finanças Chefe da IGF na área do Controlo Tutelar\nAut
 árquico\;\nLicenciatura em Direito\;\nMestrado em Administração Públic
 a na Escola de Economia e Gestão da\nUniversidade do Minho\;\nPós-gradua
 ção em Contabilidade Pública pela Universidade Lusíada\, com\nespecial
 izações em POCAL\, POCP e CIBE\;\nRepresentante da Inspecção-Geral de 
 Finanças no SATAPOCAL.\nDra. Sónia Maria da Silva Barbosa\nBacharelato e
 m Contabilidade e Administração\;\nLicenciatura em Contabilidade e Audit
 oria\;\nMestrado em Ciências Empresariais – Especialidade em Contabilid
 ade\;\nInspectora de Finanças do quadro da IGF na área do Controlo Tutel
 ar\nAutárquico.\n\n\n\nDestinatários\nMUNICÍPIOS DA RAM: Eleitos\, Diri
 gentes e Quadros das Autarquias e das Empresas Municipais\n\n\n\nInscriç
 ões\nAté três participantes da mesma entidade. As inscrições devem se
 r feitas até ao dia até 28 de Fevereiro de 2008\n\nInclui:\n\n• Docume
 ntação\; • Certificado de participação.\nComo reservar a sua partici
 pação\nAtravés do envio de ficha de inscrição via e-mail\, correio ou
  fax para:AMRAM - Associação de Municípios da Região Autónoma da Made
 ira\nRua da Mouraria n.º 44 e 46 | 9004-508 Funchal\nE-mail: mail@amram.p
 t | Fax: 291 200 738\nPara inscrever mais do que uma Formando\, favor faze
 r cópia da Ficha de Inscrição\, em anexo\, e enviar para os contatos in
 dicados.\nInclui:\n\n\n	 Documentação\;\n	Certificado de participação.
 \n\nCANCELAMENTO DA AÇÃO\nA AMRAM reserva-se o direito de cancelar a aç
 ão\, caso o número mínimo de participantes não seja atingido\, ou por 
 outra razão que justifique a sua não realização.\nINFORMAÇÕES\nDra. 
 Zélia Rodrigues\nTelef.: 291 200 730\n\n\n  
ATTACH;FMTTYPE=image/jpeg:https://www.amram.pt/wp-content/uploads/2015/07/
 foto_contas_01.jpg
LOCATION:AMRAM\, Rua da Mouraria 44-46\, Funchal\, Madeira\, 9004-508\, Por
 tugal
GEO:32.649429;-16.912119
X-APPLE-STRUCTURED-LOCATION;VALUE=URI;X-ADDRESS=Rua da Mouraria 44-46\, Fun
 chal\, Madeira\, 9004-508\, Portugal;X-APPLE-RADIUS=100;X-TITLE=AMRAM:geo:
 32.649429,-16.912119
END:VEVENT
BEGIN:VTIMEZONE
TZID:Europe/Lisbon
X-LIC-LOCATION:Europe/Lisbon
BEGIN:STANDARD
DTSTART:20071028T010000
TZOFFSETFROM:+0100
TZOFFSETTO:+0000
TZNAME:WET
END:STANDARD
END:VTIMEZONE
END:VCALENDAR