BEGIN:VCALENDAR
VERSION:2.0
PRODID:-//wp-events-plugin.com//7.1.7//EN
TZID:Europe/Lisbon
X-WR-TIMEZONE:Europe/Lisbon
BEGIN:VEVENT
UID:10@amram.pt
DTSTART;TZID=Europe/Lisbon;VALUE=DATE:20151008
DTEND;TZID=Europe/Lisbon;VALUE=DATE:20151009
DTSTAMP:20151005T145929Z
URL:https://www.amram.pt/events/a-preparacao-do-ppi-e-do-orcamento-municip
 al-para-o-ano-de-2016/
SUMMARY:A Preparação do PPI e do Orçamento Municipal para o ano de 2016
DESCRIPTION:Conhecer o quadro legal e as regras aplicáveis na preparação
  dos PPI e Orçamentos Municipais\;\nAnalisar as diversas fases e prática
 s sobre a elaboração dos Orçamentos e PPI\;\nIdentificar os elementos e
 xternos que condicionam a elaboração dos orçamentos Municipais\, tanto 
 ao nível da receita como ao nível da despesa (Orçamento do Estado e dip
 lomas do Governo/Assembleia da República)\;\nAlertar os participantes par
 a a necessidade de haver um calendário pré-definido das tarefas a execut
 ar por cada um dos serviços envolvidos\;\nExemplos práticos. Análise e 
 debate.
ATTACH;FMTTYPE=image/jpeg:https://www.amram.pt/wp-content/uploads/investim
 entos-orcamento-plurianual.jpg
LOCATION:AMRAM\, Rua da Mouraria 44-46\, Funchal\, Madeira\, 9004-508\, Por
 tugal
GEO:32.649429;-16.912119
X-APPLE-STRUCTURED-LOCATION;VALUE=URI;X-ADDRESS=Rua da Mouraria 44-46\, Fun
 chal\, Madeira\, 9004-508\, Portugal;X-APPLE-RADIUS=100;X-TITLE=AMRAM:geo:
 32.649429,-16.912119
END:VEVENT
BEGIN:VTIMEZONE
TZID:Europe/Lisbon
X-LIC-LOCATION:Europe/Lisbon
BEGIN:DAYLIGHT
DTSTART:20150329T020000
TZOFFSETFROM:+0000
TZOFFSETTO:+0100
TZNAME:WEST
END:DAYLIGHT
END:VTIMEZONE
END:VCALENDAR