BEGIN:VCALENDAR
VERSION:2.0
PRODID:-//wp-events-plugin.com//7.1.7//EN
TZID:Europe/Lisbon
X-WR-TIMEZONE:Europe/Lisbon
BEGIN:VEVENT
UID:82@amram.pt
DTSTART;TZID=Europe/Lisbon:20151116T090000
DTEND;TZID=Europe/Lisbon:20151120T173000
DTSTAMP:20151027T114305Z
URL:https://www.amram.pt/events/curso-geral-de-protecao-civil/
SUMMARY:PROCIVMAC – FORMAÇÃO AMRAM: Curso Geral de Proteção Civil
DESCRIPTION:Curso Geral de Proteção Civil\n\nObjetivos\n\n	Dotar os forma
 ndos com os conhecimentos necessários às diferentes atividades e domín
 ios de ação do Sistema Nacional de Proteção Civil e do Sistema Integra
 do de Operações de Proteção e Socorro.\n\n\nPROGRAMA\nConsultar progra
 ma aqui.\n\n\n\nDestinatários\nMUNICÍPIOS DA RAM.\n\n\n\nHorário\n\n	0
 9h00 Receção dos participantes\n	09h15 Início dos trabalhos\n	11h00 
 Pausa para café\n	12h30 Pausa para almoço livre\n	14h00 Reinicio\n	16h
 00 Pausa para café\n	17h30 Encerramento\n\nInscrições\nAs inscriçõe
 s devem ser feitas até ao dia até ao dia 6 de novembro de 2015.\n\nCo
 mo reservar a sua participação\nAtravés do envio de ficha de inscriç
 ão via e-mail\, correio ou fax para:\nAMRAM - Associação de Município
 s da Região Autónoma da Madeira\nRua da Mouraria n.º 44 e 46 | 9004-508
  Funchal\nE-mail: mail@amram.pt | Fax: 291 200 738\nPara inscrever mais do
  que um Formando\, favor fazer cópia da Ficha de Inscrição e enviar p
 ara os contactos indicados.\n\nInclui\n\n	Documentação\;\n	Certificado d
 e participação.\n\nCANCELAMENTO DA AÇÃO\nA AMRAM reserva-se o direito 
 de cancelar a ação\, caso o número mínimo de participantes não seja a
 tingido\, ou por outra razão que justifique a sua não realização.\nINF
 ORMAÇÕES\nDra. Zélia Rodrigues - 291 200 730\n\n\n\n\n\n\n
LOCATION:Edifício Sede da AMRAM\, Rua da Mouraria n.º44 e 46\, Funchal\, 
 Portugal\, 9004-508\, Funchal\, Portugal
GEO:32.649452;-16.912020
X-APPLE-STRUCTURED-LOCATION;VALUE=URI;X-ADDRESS=Rua da Mouraria n.º44 e 46
 \, Funchal\, Portugal\, 9004-508\, Funchal\, Portugal;X-APPLE-RADIUS=100;X
 -TITLE=Edifício Sede da AMRAM:geo:32.649452,-16.912020
END:VEVENT
BEGIN:VTIMEZONE
TZID:Europe/Lisbon
X-LIC-LOCATION:Europe/Lisbon
BEGIN:STANDARD
DTSTART:20151025T010000
TZOFFSETFROM:+0100
TZOFFSETTO:+0000
TZNAME:WET
END:STANDARD
END:VTIMEZONE
END:VCALENDAR