BEGIN:VCALENDAR
VERSION:2.0
PRODID:-//wp-events-plugin.com//7.1.7//EN
TZID:Europe/Lisbon
X-WR-TIMEZONE:Europe/Lisbon
BEGIN:VEVENT
UID:91@amram.pt
DTSTART;TZID=Europe/Lisbon:20161007T090000
DTEND;TZID=Europe/Lisbon:20161007T173000
DTSTAMP:20161006T112303Z
URL:https://www.amram.pt/events/elaboracao-das-grandes-opcoes-do-plano-e-d
 o-orcamento-municipal-para-2017/
SUMMARY:Elaboração das Grandes Opções do Plano e do Orçamento Municipa
 l para 2017
DESCRIPTION:\nElaboração das Grandes Opções do Plano e do Orçamento Mu
 nicipal para 2017\nObjetivos\n\n\n	Conhecer o enquadramento legal para pre
 parar as GOP (Grandes Opções do Plano) e o Orçamento Municipal\n	Saber 
 como preparar as GOP e o Orçamento\n	Identificar os elementos que podem i
 nterferir na elaboração dos documentos previsionais\n	Análise de casos 
 práticos\n\n\n\n\nPROGRAMA\n\n	Elementos essenciais para preparar o orça
 mento e as GOP (Grandes Opções do Plano)\n	O planeamento autárquico e o
  orçamento como instrumentos de gestão\n	Regras e princípios orçamenta
 is aplicáveis às autarquias locais. As implicações decorrentes do orç
 amento de Estado 2016\n	Instrumentos de equilíbrio financeiro dos municí
 pios \n\n	Os limites de endividamento\;\n	Implicações da lei dos compro
 missos\;\n	Prazos médios de pagamento\;\n	O fundo de apoio municipal.\n\n
 \n	Mecanismos de recuperação financeira\n\n	Saneamento financeiro\;\n	Re
 cuperação financeira.\n\n\n	Elaboração do orçamento\n\n	Iniciativas p
 olíticas\;\n	Métodos de previsão de despesas/receitas\;\n	Mapas de exec
 ução e do controlo orçamental.\n\n\n	Implicações do orçamento partic
 ipativo\n	Apresentação e aprovação do orçamento\n	O Controlo e a exec
 ução orçamental\n	Auditoria à Execução Orçamental\n\n\n\nFormador\n
 Dr. José Alberto Rodrigues\n\n	Licenciatura\, em Contabilidade e Admini
 stração Pública. Pós – Graduação\, em Finanças e Gestão do Secto
 r Público.\n	Técnico Superior da Direção - Geral do Tesouro e Finança
 s (Mapa de Pessoal a que pertence). As áreas desenvolvidas: Tesouraria\; 
 Pessoal\; Património e Economato\; Remunerações e Outros Abonos\; Créd
 ito\; Contencioso\; Formação\, Contabilidade e Orçamento\; Implementaç
 ão da RAFE (Regime de Administração Financeira do Estado).\n	Requisitad
 o\, na Inspeção - Geral da Administração Pública\, como\, Coordenador
  / responsável das áreas de Gestão Financeira e Patrimonial.\n	Nomeado\
 , como Dirigente no Ministério do Trabalho e da Solidariedade Social /Aut
 oridade para as Condições de Trabalho\, tendo à sua responsabilidade a 
 área Financeira e Patrimonial.\n	Eleito Autarca\, desde 2009 até à pres
 ente data\, tendo à sua responsabilidade\, nomeadamente\, os pelouros de 
 Recursos Humanos e Financeiros.\n	Experiência como formador à mais de 10
  anos\, nomeadamente em: Conteúdo programático\, fundamentalmente nas 
 áreas de Orçamentação\, Contabilidade Pública e Orçamental\, Process
 amento de Remunerações e Outros Abonos\, Gestão Financeira na Administr
 ação Pública\, Tesouraria e Fundo de Maneio\, Ajudas de Custo\, Trabalh
 o Extraordinário\, Auditoria nos Serviços Públicos\, Sistema de Control
 o Interno\, Assiduidade e Pontualidade\, etc. Os referidos conteúdos\, t
 êm sido ministrados nos seguintes Serviços da Administração Pública\,
  Central\, Local e Regional\, nomeadamente: Autarquias Locais: Câmaras M
 unicipais e Serviços Municipalizados\, no Continente\, Madeira e Açores\
 ;  Região Autónoma dos Açores – DROAP\; Região Autónoma da Madeir
 a - DRAPL .\n\n\n\nDestinatários\nMUNICÍPIOS DA RAM: Eleitos\, Dirigente
 s e Quadros das Autarquias e das Empresas Municipais.\n\n\n\nHorário\n\n	
 09h00 Receção dos participantes\n	09h15 Início dos trabalhos\n	11h00
  Pausa para café\n	12h30 Pausa para almoço livre\n	14h00 Reinício\n	
 16h00 Pausa para café\n	17h30 Encerramento\n\nInscrições\nAs inscriç
 ões devem ser feitas até ao dia até ao dia 03 de outubro de 2016.\n\
 nInclui\n\n	Documentação\;\n	Certificado de participação.\n\nCANCELAME
 NTO DA AÇÃO\nA AMRAM reserva-se o direito de cancelar a ação\, caso o 
 número mínimo de participantes não seja atingido\, ou por outra razão 
 que justifique a sua não realização.\nINFORMAÇÕES\nDra. Zélia Rodrig
 ues - 291 200 730\n\n
ATTACH;FMTTYPE=image/jpeg:https://www.amram.pt/wp-content/uploads/2012ZBLK
 WM.jpg
LOCATION:Edifício Sede da AMRAM\, Rua da Mouraria n.º44 e 46\, Funchal\, 
 Portugal\, 9004-508\, Funchal\, Portugal
GEO:32.649452;-16.912020
X-APPLE-STRUCTURED-LOCATION;VALUE=URI;X-ADDRESS=Rua da Mouraria n.º44 e 46
 \, Funchal\, Portugal\, 9004-508\, Funchal\, Portugal;X-APPLE-RADIUS=100;X
 -TITLE=Edifício Sede da AMRAM:geo:32.649452,-16.912020
END:VEVENT
BEGIN:VTIMEZONE
TZID:Europe/Lisbon
X-LIC-LOCATION:Europe/Lisbon
BEGIN:DAYLIGHT
DTSTART:20160327T020000
TZOFFSETFROM:+0000
TZOFFSETTO:+0100
TZNAME:WEST
END:DAYLIGHT
END:VTIMEZONE
END:VCALENDAR