BEGIN:VCALENDAR
VERSION:2.0
PRODID:-//wp-events-plugin.com//7.1.7//EN
TZID:Europe/Lisbon
X-WR-TIMEZONE:Europe/Lisbon
BEGIN:VEVENT
UID:20@amram.pt
DTSTART;TZID=Europe/Lisbon:20090128T090000
DTEND;TZID=Europe/Lisbon:20090128T173000
DTSTAMP:20150721T115604Z
URL:https://www.amram.pt/events/enquadramento-do-iva-nas-autarquias-locais
 /
SUMMARY:Enquadramento do IVA nas Autarquias Locais
DESCRIPTION:ENQUADRAMENTO DO IVA NAS AUTARQUIAS LOCAIS\nAMRAM\, 28 de Janei
 ro de 2009\nObjetivos\nActualizar os conhecimentos da aplicação do IVA n
 as\nEntidades Locais: Associação de Municípios\, Autarquias e\nEmpresas
  Municipais:\nTratar e debater temas específicos decorrentes da natureza\
 ndas actividades locais e do relacionamento económico e\nfinanceiro entre
  as diferentes entidades que constituem o\nuniverso municipal.\n\nPROGRAMA
 \n1. Enquadramento fiscal\, em sede de IVA\, das actividades\nexercidas pe
 las autarquias locais e entidades equiparadas\;\n2. O novo regime do IVA n
 as empreitadas – a inversão do sujeito\npassivo\;\n3. As novas regras d
 o exercício do direito à dedução e a sua\naplicação no âmbito das o
 perações efectuadas pelas\nautarquias locais e entidades equiparadas\;\n
 4. A especificidade das autarquias locais no que concerne à\naplicação 
 de IVA: Taxas de resíduos sólidos\, taxas de\ndisponibilidade de serviç
 os púbicos\, tarifas e preços\;\n5. Enquadramento em sede de IVA de cert
 as operações\nefectuadas entre os Municípios e as Empresas Municipais 
 –\nProtocolos\, Contratos-programa\;\nENTIDADE PROMOTORA ENTIDADE FORMAD
 ORA\n6. Análise de Entendimentos Administrativos com interesse para\nas a
 utarquias locais\;\n7. Análise de jurisprudência sobre a aplicação do 
 IVA às\nentidades locais: Municípios\, Associações de Municípios e\nE
 mpresas Municipais.\n\n\n\nFormador\nDr. Emanuel Lima\nLicenciado em Econo
 mia\nAssessor da Direcção Geral de Contribuições e Impostos\;\nFormado
 r na área Fiscal\; Docente da Universidade Lusíada e do\nISAG\nAutor da 
 obra “Código do Imposto Sobre Valor Acrescentado -\ncomentado e anotado
 ”\n\n\n\nDestinatários\nMUNICÍPIOS DA RAM: Eleitos\, Dirigentes e Quad
 ros das Autarquias e das Empresas Municipais\n\n\n\nInscrições\nAté tr
 ês participantes da mesma entidade. As inscrições devem ser feitas até
  ao dia até 22 de Janeiro de 2009\n\nInclui:\n\n• Documentação\; • 
 Certificado de participação.\nComo reservar a sua participação\nAtrav
 és do envio de ficha de inscrição via e-mail\, correio ou fax para:AMRA
 M - Associação de Municípios da Região Autónoma da Madeira\nRua da Mo
 uraria n.º 44 e 46 | 9004-508 Funchal\nE-mail: mail@amram.pt | Fax: 291 2
 00 738\nPara inscrever mais do que uma Formando\, favor fazer cópia da Fi
 cha de Inscrição\, em anexo\, e enviar para os contatos indicados.\nIncl
 ui:\n\n\n	 Documentação\;\n	Certificado de participação.\n\nCANCELAMEN
 TO DA AÇÃO\nA AMRAM reserva-se o direito de cancelar a ação\, caso o n
 úmero mínimo de participantes não seja atingido\, ou por outra razão q
 ue justifique a sua não realização.\nINFORMAÇÕES\nDra. Zélia Rodrigu
 es\nTelef.: 291 200 730\n\n\n   
ATTACH;FMTTYPE=image/jpeg:https://www.amram.pt/wp-content/uploads/2015/07/
 formacao_iva_autarquias_01.jpg
LOCATION:AMRAM\, Rua da Mouraria 44-46\, Funchal\, Madeira\, 9004-508\, Por
 tugal
GEO:32.649429;-16.912119
X-APPLE-STRUCTURED-LOCATION;VALUE=URI;X-ADDRESS=Rua da Mouraria 44-46\, Fun
 chal\, Madeira\, 9004-508\, Portugal;X-APPLE-RADIUS=100;X-TITLE=AMRAM:geo:
 32.649429,-16.912119
END:VEVENT
BEGIN:VTIMEZONE
TZID:Europe/Lisbon
X-LIC-LOCATION:Europe/Lisbon
BEGIN:STANDARD
DTSTART:20081026T010000
TZOFFSETFROM:+0100
TZOFFSETTO:+0000
TZNAME:WET
END:STANDARD
END:VTIMEZONE
END:VCALENDAR