BEGIN:VCALENDAR
VERSION:2.0
PRODID:-//wp-events-plugin.com//7.1.7//EN
TZID:Europe/Lisbon
X-WR-TIMEZONE:Europe/Lisbon
BEGIN:VEVENT
UID:148@amram.pt
DTSTART;TZID=Europe/Lisbon:20200623T093000
DTEND;TZID=Europe/Lisbon:20200630T113000
DTSTAMP:20200617T161643Z
URL:https://www.amram.pt/events/formacao-online-8-sustentabilidade-e-instr
 umentos-de-gestao-ambiental/
SUMMARY:FORMAÇÃO ONLINE “8-SUSTENTABILIDADE E INSTRUMENTOS DE GESTÃO A
 MBIENTAL”
DESCRIPTION:Regras de funcionamento da FORMAÇÃO ONLINE\n\nAntes da realiz
 ação da Formação será enviado pela Quadros &amp\; Metas a cada um dos
  participantes\, via email de cada participante\, indicações para uma se
 ssão de formação sobre a plataforma ZOOM para que os participantes saib
 am usar plenamente este meio.\n\nNa véspera da primeira sessão a formado
 ra estará disponível para uma sessão de teste com a duração de 30 min
 utos para os participantes que tenham ainda alguma dificuldade na utiliza
 ção da plataforma.\n\nA formação tem a duração total de 8 horas\, di
 vidido em sessões de 2 horas cada\, das 9h30 às 11h30.\n\nDurante as ses
 sões os participantes poderão colocar as suas dúvidas por escrito à fo
 rmadora\, mediante o chat room do ZOOM. As questões serão respondidas du
 rante a sessão ou\, na sessão subsequente\, mediante envio de documento 
 com as possíveis respostas. Ainda durante as sessões\, haverá possibili
 dade também da colocação de questões verbais\, mediante as regras que 
 posteriormente serão enviadas a cada um dos participantes (quais os tempo
 s\, em que fase\, qual a ordem\, etc.)\n\nOBJETIVOS \n\n 	Aprofundar conce
 itos sobre sustentabilidade em organizações e seus instrumentos de gest
 ão ambiental\n 	Consciencialização da importância da sustentabilidade 
 e gestão ambiental em organizações\n 	Conhecer Instrumentos de Gestão 
 Ambiental\n 	Vantagens e Desvantagens da Implementação de Sistemas de Ge
 stão Ambiental\n\nPROGRAMA\n\n 	Desenvolvimento sustentável. Definição
 \, conceitos e dificuldades. Aplicabilidade em organizações\;\n 	Respons
 abilidade social e individual. Abordagens\, problemáticas e evolução\;\
 n 	Instrumentos de Gestão Ambiental – o que são e qual a sua importân
 cia para as organizações\;\n 	Estrutura e requisitos da Norma ISO 14001\
 ;\n 	Estrutura e requisitos do Registo EMAS\;\n 	Comparação entre sistem
 as\;\n 	Vantagens e Desvantagens da implementação de Sistemas de Gestão
  Ambiental\n 	Exemplos práticos de Sistemas de Gestão Ambiental\n 	Outro
 s Instrumentos de gestão – energia\, eventos\, ruído.\n\nFORMADORA\n\n
 Dra. Liliana Ferreira\n\nSíntese Curricular \n\n 	Licenciatura em Engenha
 ria Agrícola\, Universidade de Trás - os -Montes e Alto Douro\, 2005\n 	
 Mestre em Engenharia Agronómica\, pela Universidade de Trás-os-Montes e 
 Alto Douro\, 2012\n 	Atualmente exerce funções de Técnica superior na 
 área do Ambiente na Câmara Municipal do Porto\, sendo responsável pela 
 gestão dos espaços verdes do Parque da Cidade.\n 	De janeiro 2011 a junh
 o 2018 foi Chefe de Divisão na área do Ambiente da Câmara Municipal do 
 Porto\n 	Desde 2011 é formadora na área da Gestão Ambiental nomeadament
 e no domínio da Certificação Sistemas de Gestão da Qualidade e da Cert
 ificação Sistemas de Gestão Ambiental ISO 14001\n\nDESTINATÁRIOS\n\nMU
 NICÍPIOS DA RAM: Eleitos\, Dirigentes e Quadros das Autarquias e das Empr
 esas Municipais\n\nCALENDÁRIO \n\n23\, 25\, 29 e 30 de junho de 2020\n\n9
 h30 Início dos trabalhos\n\n11h30 Encerramento\n\nINSCRIÇÕES\n\nAté do
 is participantes por Município.\n\nAs inscrições devem ser feitas até 
 ao dia 15 de junho de 2020.\n\n(Só serão aceites mais do que 2 participa
 ntes por Município\, caso não estejam preenchidas\, naquela data\, o nú
 mero limite de inscrições\, sendo dada prioridade à ordem de receção 
 das inscrições).\n\nInclui:\n\n 	Documentação\;\n 	Certificado de part
 icipação.\n\nCANCELAMENTO DA AÇÃO\n\nA AMRAM reserva-se o direito de c
 ancelar a ação\, caso o número mínimo de participantes não seja ating
 ido\, ou por outra razão que justifique a sua não realização.\n\nINFOR
 MAÇÕES\n\nDra. Zélia Rodrigues\n\nTelef.: 291 200 730\n\n
ATTACH;FMTTYPE=image/jpeg:https://www.amram.pt/wp-content/uploads/transfer
 ir.jpg
END:VEVENT
BEGIN:VTIMEZONE
TZID:Europe/Lisbon
X-LIC-LOCATION:Europe/Lisbon
BEGIN:DAYLIGHT
DTSTART:20200329T020000
TZOFFSETFROM:+0000
TZOFFSETTO:+0100
TZNAME:WEST
END:DAYLIGHT
END:VTIMEZONE
END:VCALENDAR