BEGIN:VCALENDAR
VERSION:2.0
PRODID:-//wp-events-plugin.com//7.1.7//EN
TZID:Europe/Lisbon
X-WR-TIMEZONE:Europe/Lisbon
BEGIN:VEVENT
UID:23@amram.pt
DTSTART;TZID=Europe/Lisbon;VALUE=DATE:20090304
DTEND;TZID=Europe/Lisbon;VALUE=DATE:20090306
DTSTAMP:20150721T142605Z
URL:https://www.amram.pt/events/novos-regimes-das-taxas-nas-autarquias-loc
 ais/
SUMMARY:Novos Regimes das Taxas nas Autarquias Locais
DESCRIPTION:NOVO REGIME DAS TAXAS NAS AUTARQUIAS LOCAIS\nAMRAM\, 4 e 5 de M
 arço de 2009\n\n  \n
ATTACH;FMTTYPE=image/jpeg:https://www.amram.pt/wp-content/uploads/2015/07/
 formacao_novo_regimes_taxas_01.jpg
LOCATION:AMRAM\, Rua da Mouraria 44-46\, Funchal\, Madeira\, 9004-508\, Por
 tugal
GEO:32.649429;-16.912119
X-APPLE-STRUCTURED-LOCATION;VALUE=URI;X-ADDRESS=Rua da Mouraria 44-46\, Fun
 chal\, Madeira\, 9004-508\, Portugal;X-APPLE-RADIUS=100;X-TITLE=AMRAM:geo:
 32.649429,-16.912119
END:VEVENT
BEGIN:VTIMEZONE
TZID:Europe/Lisbon
X-LIC-LOCATION:Europe/Lisbon
BEGIN:STANDARD
DTSTART:20081026T010000
TZOFFSETFROM:+0100
TZOFFSETTO:+0000
TZNAME:WET
END:STANDARD
END:VTIMEZONE
END:VCALENDAR