BEGIN:VCALENDAR
VERSION:2.0
PRODID:-//wp-events-plugin.com//7.1.7//EN
TZID:Europe/Lisbon
X-WR-TIMEZONE:Europe/Lisbon
BEGIN:VEVENT
UID:12@amram.pt
DTSTART;TZID=Europe/Lisbon;VALUE=DATE:20080402
DTEND;TZID=Europe/Lisbon;VALUE=DATE:20080403
DTSTAMP:20150717T135350Z
URL:https://www.amram.pt/events/o-novo-ciclo-de-programacao-financeira-da-
 ue-2007-2013/
SUMMARY:O novo ciclo de programação financeira da UE (2007-2013)
DESCRIPTION:O novo ciclo de programação financeira da UE (2007-2013)\nAMR
 AM\, 2 de Abril de 2008\nEnquadramento\nO novo ciclo de programação comu
 nitária vem introduzir alterações\nsignificativas relativamente ao actu
 al quadro\, quer em termos da distribuição\ndo apoio por áreas geográf
 icas\, quer ao nível das regras e dos objectivos\npropostos\, com particu
 lar destaque para a aplicação dos Fundos Estruturais.\nPor outro lado\, 
 a União Europeia promove\, ela própria\, programas específicos\nde apoi
 o a todo o território europeu em diversos domínios\, designadamente\,\nI
 nvestigação\, Competitividade e Inovação\, Transportes\, Ambiente\, En
 ergia\,\nConhecimento e Formação ou E-Gov.\nNuma fase em que já se enco
 ntram abertas candidaturas aos diversos\nProgramas Operacionais\, os Munic
 ípios devem preparar\, desde já – numa\natitude proactiva e no reforç
 o da sua competitividade - o seu posicionamento\nrelativamente às novas p
 ropostas\, definindo a sua estratégia de intervenção\,\npara o que se t
 orna indispensável conhecer os diversos instrumentos que se\nencontram pr
 evistos.\nAssim\, com a presente Acção de Formação pretende-se dotar o
 s participantes\nde conhecimentos acerca do novo quadro de programação f
 inanceira da União\nEuropeia\, relativo ao período 2007-2013\, quer em r
 elação a Fundos\nEstruturais\, incluindo os sucessores do actual Interre
 g\, quer relativamente às\niniciativas directamente promovidas pela UE. N
 o fim da acção os participantes\ndeverão ser capazes de identificar as 
 oportunidades que\, neste domínio\, se\ncolocam à instituição em que s
 e encontram inseridos.\nObjetivos\n• Definir os princípios fundamentais
  do novo ciclo de programação\nfinanceira da União Europeia\n• Defini
 r a aplicação nacional desse novo ciclo e identificar as tipologias de\n
 Programas Operacionais com incidência na RAM\, no âmbito do FEDER\, FSE 
 e\nCOOPERAÇÃO TERRITORIAL EUROPEIA\n• Explicitar as alterações relat
 ivamente ao QCA III e identificar as novas\noportunidades de acesso a fina
 nciamento de Fundos Estruturais\n• Identificar outras fontes de apoio\, 
 designadamente\, Programas de Acção\nde Iniciativa Comunitária\nProgram
 a\n1. ENQUADRAMENTO COMUNITÁRIO\n1.1. A política de Coesão\n1.2. A Agen
 da de Lisboa e Gotemburgo\n1.3. Os Fundos Estruturais\, particularmente\, 
 FEDER e FSE\n2. APLICAÇÃO NACIONAL\n2.1. Orientações Estratégicas ger
 ais\n2.2. Quadro de Referencia Estratégica Nacional (QREN)\n2.3. Programa
 s Operacionais Regionais da Madeira\n2.3.1. Intervir+ (Programa Operaciona
 l de Valorização do Potencial\nEconómico e Coesão Territorial da RAM)\
 n2.3.2. Rumos (Programa Operacional de Valorização do Potencial Humano e
 \nCoesão Social da RAM)\n2.4. Programas Operacionais de Cooperação Terr
 itorial Europeia\n2.4.1. Cooperação Transnacional\n2.4.2. Cooperação I
 nterregional - INTERREG IVC\n2.4.3. Redes de Cooperação Interregional\n3
 . OUTRAS FONTES DE FINANCIAMENTO\n\nFormador\nDra. Paula Cristina Cunha\nV
 ice-Presidente da Comissão de Coordenação e Desenvolvimento Regional de
 \nLisboa e Vale do Tejo\, responsável pelas áreas do desenvolvimento reg
 ional e\ncooperação internacional\nLicenciada em Sociologia pelo ISCTE\n
 Pós-graduada em Gestão Autárquica pelo ISG\nTécnica de Desenvolvimento
  Organizacional\nResponsável técnica pela elaboração do Programa Opera
 cional Regional de\nLisboa\nRepresentante da CCDR-LVT no Grupo de Trabalho
  QREN do MAOTDR\nMembro de várias redes internacionais de cooperação\nD
 etém vasta experiência ao nível autárquico\, tendo exercido funções\
 , como\ndirectora\, nas áreas de Gestão financeira\; Planeamento estrat
 égico\; Recursos\nhumanos e modernização administrativa\n\n\n\nDestinat
 ários\nMUNICÍPIOS DA RAM: Eleitos\, Dirigentes e Quadros das Autarquias 
 e das Empresas Municipais\n\n\n\nInscrições\nAté três participantes da
  mesma entidade. As inscrições devem ser feitas até ao dia até 25 de M
 arço de 2008\n\nInclui:\n\n• Documentação\; • Certificado de parti
 cipação.\nComo reservar a sua participação\nAtravés do envio de ficha
  de inscrição via e-mail\, correio ou fax para:AMRAM - Associação de M
 unicípios da Região Autónoma da Madeira\nRua da Mouraria n.º 44 e 46 |
  9004-508 Funchal\nE-mail: mail@amram.pt | Fax: 291 200 738\nPara inscreve
 r mais do que uma Formando\, favor fazer cópia da Ficha de Inscrição\, 
 em anexo\, e enviar para os contatos indicados.\nInclui:\n\n\n	 Documenta
 ção\;\n	Certificado de participação.\n\nCANCELAMENTO DA AÇÃO\nA AMRA
 M reserva-se o direito de cancelar a ação\, caso o número mínimo de pa
 rticipantes não seja atingido\, ou por outra razão que justifique a sua 
 não realização.\nINFORMAÇÕES\nDra. Zélia Rodrigues\nTelef.: 291 200 
 730\n\n\n   \n
ATTACH;FMTTYPE=image/jpeg:https://www.amram.pt/wp-content/uploads/2015/07/
 form_ciclo_ue01.jpg
LOCATION:AMRAM\, Rua da Mouraria 44-46\, Funchal\, Madeira\, 9004-508\, Por
 tugal
GEO:32.649429;-16.912119
X-APPLE-STRUCTURED-LOCATION;VALUE=URI;X-ADDRESS=Rua da Mouraria 44-46\, Fun
 chal\, Madeira\, 9004-508\, Portugal;X-APPLE-RADIUS=100;X-TITLE=AMRAM:geo:
 32.649429,-16.912119
END:VEVENT
BEGIN:VTIMEZONE
TZID:Europe/Lisbon
X-LIC-LOCATION:Europe/Lisbon
BEGIN:DAYLIGHT
DTSTART:20080330T020000
TZOFFSETFROM:+0000
TZOFFSETTO:+0100
TZNAME:WEST
END:DAYLIGHT
END:VTIMEZONE
END:VCALENDAR