BEGIN:VCALENDAR
VERSION:2.0
PRODID:-//wp-events-plugin.com//7.1.7//EN
TZID:Europe/Lisbon
X-WR-TIMEZONE:Europe/Lisbon
BEGIN:VEVENT
UID:81@amram.pt
DTSTART;TZID=Europe/Lisbon:20151102T090000
DTEND;TZID=Europe/Lisbon:20151106T173000
DTSTAMP:20151027T114108Z
URL:https://www.amram.pt/events/risco-de-incendio-em-edificios/
SUMMARY:PROCIVMAC – FORMAÇÃO AMRAM: Risco de Incêndio em Edifícios
DESCRIPTION:Risco de Incêndio em Edifícios\n\nObjetivos\n\n	Dotar os form
 andos de conhecimentos essenciais relativamente ao Regime Jurídico de Seg
 urança Contra Incêndio em Edifícios (RJ-SCIE)\n\n\nPROGRAMA\nConsultar 
 programa aqui.\n\n\n\nDestinatários\nMUNICÍPIOS DA RAM.\n\n\n\nHorário\
 n\n	09h00 Receção dos participantes\n	09h15 Início dos trabalhos\n	11
 h00 Pausa para café\n	12h30 Pausa para almoço livre\n	14h00 Reinicio\
 n	16h00 Pausa para café\n	17h30 Encerramento\n\nInscrições\nAs inscri
 ções devem ser feitas até ao dia até ao dia 28 de outubro de 2015.\
 n\nComo reservar a sua participação\nAtravés do envio de ficha de inscr
 ição via e-mail\, correio ou fax para:\nAMRAM - Associação de Municíp
 ios da Região Autónoma da Madeira\nRua da Mouraria n.º 44 e 46 | 9004-5
 08 Funchal\nE-mail: mail@amram.pt | Fax: 291 200 738\nPara inscrever mais 
 do que um Formando\, favor fazer cópia da Ficha de Inscrição e enviar p
 ara os contactos indicados.\n\n&nbsp\;\n\nInclui\n\n	Documentação\;\n	Ce
 rtificado de participação.\n\nCANCELAMENTO DA AÇÃO\nA AMRAM reserva-se
  o direito de cancelar a ação\, caso o número mínimo de participantes 
 não seja atingido\, ou por outra razão que justifique a sua não realiza
 ção.\nINFORMAÇÕES\nDra. Zélia Rodrigues - 291 200 730\n\n\n\n\n\n\n
LOCATION:Edifício Sede da AMRAM\, Rua da Mouraria n.º44 e 46\, Funchal\, 
 Portugal\, 9004-508\, Funchal\, Portugal
GEO:32.649452;-16.912020
X-APPLE-STRUCTURED-LOCATION;VALUE=URI;X-ADDRESS=Rua da Mouraria n.º44 e 46
 \, Funchal\, Portugal\, 9004-508\, Funchal\, Portugal;X-APPLE-RADIUS=100;X
 -TITLE=Edifício Sede da AMRAM:geo:32.649452,-16.912020
END:VEVENT
BEGIN:VTIMEZONE
TZID:Europe/Lisbon
X-LIC-LOCATION:Europe/Lisbon
BEGIN:STANDARD
DTSTART:20151025T010000
TZOFFSETFROM:+0100
TZOFFSETTO:+0000
TZNAME:WET
END:STANDARD
END:VTIMEZONE
END:VCALENDAR