BEGIN:VCALENDAR
VERSION:2.0
PRODID:-//wp-events-plugin.com//7.1.7//EN
TZID:Europe/Lisbon
X-WR-TIMEZONE:Europe/Lisbon
BEGIN:VEVENT
UID:79@amram.pt
DTSTART;TZID=Europe/Lisbon;VALUE=DATE:20150813
DTEND;TZID=Europe/Lisbon;VALUE=DATE:20150814
DTSTAMP:20150730T161919Z
URL:https://www.amram.pt/events/teste-2/
SUMMARY:Especialização de Motoristas de Transporte Colectivo de Crianças
DESCRIPTION:Objetivos\n\n	Perceber como acontecem os acidentes no Transport
 e Colectivo de Crianças\;\n	Definir e aplicar regras de segurança relaci
 onadas com a criança enquanto passageiro e peão\, quando utiliza o trans
 porte colectivo de crianças\;\n	Escolher locais de risco reduzido para a
  tomada e largada de passageiros\, durante a planificação dos percursos\
 ;\n	Reconhecer locais perigosos para o peão e orientar quanto às altera
 ções necessárias ao percurso ou ao local de tomada e largada de passage
 iros\;\n	Escolher e utilizar correctamente os sistemas de retenção de ac
 ordo com a idade\, peso e tamanho dos passageiros\;\n	Reconhecer que uma a
 titude defensiva assente na previsão e na antecipação pode evitar situa
 ções de perigo rodoviário\;\n	Compreender a forma como uma correcta man
 obra de reacção pode\, por vezes\, minimizar as consequências de um aci
 dente ou mesmo evitá-lo\;\n	Aprender a agir em caso de acidente rodoviá
 rio de modo a minorar as suas consequências\, alertando\, prevenindo e so
 correndo\;\n	Identificar os principais aspectos da legislação aplicável
  e saber agir em conformidade\;\n	Reconhecer a importância da atitude ind
 ividual no relacionamento com as crianças\, vigilantes\, estabelecimentos
  de educação\, famílias ou outros interlocutores.\n\nPROGRAMA\n\n	Módu
 lo I\n\n	Prevenção Rodoviária:\n\n	Tema A - Segurança da Criança em A
 mbiente Rodoviário (9h)\n	Tema B - Sistemas de Retenção para Crianças 
 (1h30)\n	Tema C - Tomadas e Largadas de Crianças (2h30)\n	Tema D – Asse
 ssorias de condução e tomadas e largadas (3h15)\n\n\n\n\n	Módulo II\n\n
 	Condução Defensiva – teoria e prática (6h30)\n\n\n	Módulo III\n\n	L
 egislação Rodoviária (1h30)\n\n\n	Módulo IV\n\n	Legislação Transport
 e Colectivo de Crianças (2h30)\n\n\n	Módulo V\n\n	Primeiros Socorros: Ac
 tuação em caso de acidente e incêndio em veículos - teoria (3h30) e pr
 ática (1h30) -\n\n\n	Módulo VI\n\n	Aspectos psicossociológicos da funç
 ão de motorista (1h00)\n\n\n	Módulo VII\n\n	Relacionamento interpessoal 
 (2h15)\n\n\n\nFormador\nDRA. VERA ALEXANDRA MENDES ALVES DA COSTA VAZ ZEMP
 \n\n	Formadora na área de Transporte Colectivo de Crianças.\n	Técnica d
 e Segurança Infantil\n	Licenciada em Psicologia (área de Justiça e Rein
 serção Social) pela Universidade do Minho.\n	Pós-Graduada do Curso de E
 specialização em Psicologia na área de Estudos e Intervenções com Fam
 ílias pela Faculdade de Psicologia e Ciências da Educação da Universid
 ade de Lisboa.\n\nDR. ANTÓNIO AUGUSTO CASTRO SOARES DE SOUSA MACEDO\n\n	F
 ormador na área de Transporte Colectivo de Crianças\n	Gerente da Empresa
  CR&amp\;M – Formação Activa de Condução\, Lda.\n	Coordenador de vá
 rias acções de formação\, nas áreas de\, nomeadamente\,\n	Segurança 
 Rodoviária\, de Consultoria e Auditorias de Segurança\, de Vendas\n	Auto
 r de diversos materiais de condução\n	Autor e apresentador de programas 
 da Rubrica “Segurança” /TV Turbo)\, SIC Noticias – 2003-2005\; Apre
 sentador do “Como Bem Conduzir” RTP1-2004\, entre outros.\n\nDestinat
 ários\n\n	MUNICÍPIOS DA RAM: Eleitos\, Dirigentes e Quadros das Autarqui
 as e das Empresas Municipais\n\nInscrições\n\n	Até três participantes 
 da mesma entidade. As inscrições devem ser feitas até ao dia até 20 de
  Fevereiro de 2008\n\nInclui\n\n	Documentação\;\n	Certificado de partici
 pação.\n\nCancelamento da Ação\nA AMRAM reserva-se o direito de cancel
 ar a ação\, caso o número mínimo de participantes não seja atingido\,
  ou por outra razão que justifique a sua não realização.
LOCATION:AMRAM\, Rua da Mouraria 44-46\, Funchal\, Madeira\, 9004-508\, Por
 tugal
GEO:32.649429;-16.912119
X-APPLE-STRUCTURED-LOCATION;VALUE=URI;X-ADDRESS=Rua da Mouraria 44-46\, Fun
 chal\, Madeira\, 9004-508\, Portugal;X-APPLE-RADIUS=100;X-TITLE=AMRAM:geo:
 32.649429,-16.912119
END:VEVENT
BEGIN:VTIMEZONE
TZID:Europe/Lisbon
X-LIC-LOCATION:Europe/Lisbon
BEGIN:DAYLIGHT
DTSTART:20150329T020000
TZOFFSETFROM:+0000
TZOFFSETTO:+0100
TZNAME:WEST
END:DAYLIGHT
END:VTIMEZONE
END:VCALENDAR