BEGIN:VCALENDAR
VERSION:2.0
PRODID:-//wp-events-plugin.com//7.1.7//EN
TZID:Europe/Lisbon
X-WR-TIMEZONE:Europe/Lisbon
BEGIN:VEVENT
UID:2@amram.pt
DTSTART;TZID=Europe/Lisbon:20150529T090000
DTEND;TZID=Europe/Lisbon:20150529T173000
DTSTAMP:20150714T111551Z
URL:https://www.amram.pt/events/teste/
SUMMARY:PORTUGAL 2020 - Desafios\, Oportunidades e Operacionalização
DESCRIPTION:Conhecer a fundamentação e a arquitetura da Estratégia Europ
 a 2020 e o “Portugal 2020”\, Enquadrar as necessidades/oportunidades d
 e Portugal nas prioridadesda União Europeia\, Avaliar as condicionantes e
  as oportunidades que se colocam à Administração Pública com o novo pe
 ríodo 2014-2020\, Analisar as novas regras e requisitos à apresentação
  e execução de candidaturas\, Identificar lógicas de articulação e pa
 rcerias que potenciem as ideias e garantam o sucesso na sua implementaçã
 o.
ATTACH;FMTTYPE=image/jpeg:https://www.amram.pt/wp-content/uploads/2015/05/
 homepage-slider-imagens-recuperar.jpg
LOCATION:AMRAM\, Rua da Mouraria 44-46\, Funchal\, Madeira\, 9004-508\, Por
 tugal
GEO:32.649429;-16.912119
X-APPLE-STRUCTURED-LOCATION;VALUE=URI;X-ADDRESS=Rua da Mouraria 44-46\, Fun
 chal\, Madeira\, 9004-508\, Portugal;X-APPLE-RADIUS=100;X-TITLE=AMRAM:geo:
 32.649429,-16.912119
END:VEVENT
BEGIN:VTIMEZONE
TZID:Europe/Lisbon
X-LIC-LOCATION:Europe/Lisbon
BEGIN:DAYLIGHT
DTSTART:20150329T020000
TZOFFSETFROM:+0000
TZOFFSETTO:+0100
TZNAME:WEST
END:DAYLIGHT
END:VTIMEZONE
END:VCALENDAR