BEGIN:VCALENDAR
VERSION:2.0
PRODID:-//wp-events-plugin.com//7.1.7//EN
TZID:Europe/Lisbon
X-WR-TIMEZONE:Europe/Lisbon
BEGIN:VEVENT
UID:251@amram.pt
DTSTART;TZID=Europe/Lisbon:20251125T090000
DTEND;TZID=Europe/Lisbon:20251125T173000
DTSTAMP:20251119T151221Z
URL:https://www.amram.pt/events/tratamento-dos-ativos-nao-correntes-das-au
 tarquias-locais/
SUMMARY:TRATAMENTO DOS ATIVOS NÃO CORRENTES DAS AUTARQUIAS LOCAIS
DESCRIPTION:OBJETIVOS\n• Reconhecer as potencialidades do SNC-AP enquanto
  sistema de informação para a gestão\;\n• Conhecer\, em particular\, 
 o conteúdo das NCP 5- Ativos fixos tangíveis\, NCP 3 - Ativos intangíve
 is e NCP 8 -Propriedades de investimento do Sistema de Normalização Cont
 abilística para as Administrações Públicas (SNC-AP)\;\n• Reconhecer 
 os aspetos mais significativos do Plano de Contas Multidimensional\;\n• 
 Identificar as Notas de Enquadramento ao PCM com relevância\;\n• Entend
 er o alcance das respostas da Comissão de Normalização Contabilística 
 (CNC) às FAQ'S – Questões frequentes mais relevantes nestas matérias\
 ;\n• Perceber algumas das aplicações práticas mais relevantes.\n\nPRO
 GRAMA\nNCP 5 – ATIVOS FIXOS TANGÍVEIS\, NCP 3 - ATIVOS INTANGÍVEIS e N
 CP 8 – PROPRIEDADES DE INVESTIMENTO\n1. Objetivo\;\n2. Âmbito\;\n3. Def
 inições\;\n4. Reconhecimento\;\n5. Mensuração no reconhecimento\;\n6. 
 Mensuração subsequente\;\n7. Desreconhecimento\;\n8. Plano de Contas Mul
 tidimensional – PCM (Classificador complementar 2 - Cadastro e vidas út
 eis dos ativos fixos tangíveis\, intangíveis e propriedades de investime
 nto)\;\n9. Portaria n.º 189/2016\, de 14 de julho - Notas de Enquadrament
 o ao PCM\;\n10. Manual de implementação do SNC-AP\;\n11. “FAQ'S – Qu
 estões frequentes – SETOR PÚBLICO - SNC – AP” - Comissão de Norma
 lização Contabilística.\nEXEMPLOS DE APLICAÇÕES PRÁTICAS DAS REFERID
 AS NORMAS\n\nFORMADORA\nDra. Susana Silva\n\nSíntese Curricular\nDoutorad
 a em Ciências Empresarias\, ramo contabilidade\, pela Universidade do Min
 ho.\nLicenciatura em Gestão de empresas\, pela Universidade do Minho.\nMe
 strado em Contabilidade e Auditoria\, pela Universidade do Minho.\nAtualme
 nte integra o quadro dos Serviços de Ação Social da Universidade do Min
 ho.\nPós-Graduação sobre o “Novo Sistema de Normalização Contabilí
 stico das Administrações Públicas (SNC-AP)” pelo Instituto Politécni
 co do Cávado e do Ave\, num total de 182 horas.\nTítulo de especialista\
 , na área científica de Contabilidade Pública pela Ordem dos Técnicos 
 Oficias de Contas (OTOC)\, atualmente Ordem dos Contabilistas Certificados
 .\nTítulo de especialista\, na área científica de Contabilidade Públic
 a\, atribuído pelo Instituto Politécnico do Cávado e do Ave.\nDiretora 
 de Serviços do Departamento Administrativo e Financeiro\, Universidade do
  Minho desde 2011.\nIniciou a sua atividade como Técnica Superior nos qua
 dros da Universidade do Minho em 2000.\nDocente no Instituto Politécnico 
 do Cávado e do Ave\, na Unidade curricular de Contabilidade Pública\, do
  curso de Contabilidade\, (onde desde o ano letivo 2015/2016 é abordado o
  SNC-AP) e das Unidades curriculares de Auditoria Pública aplicada\, Patr
 imónio Autárquico e Contabilidade Autárquica.\nDocente\, de 1999 a 2001
  no Instituto Politécnico do Cávado e do Ave (IPCA) na cadeira Auditoria
  e Prestação de Contas II” do Curso de Bacharelato de Contabilidade e 
 Finanças Públicas e “Contabilidade Pública” do Curso de Bacharelato
  de Contabilidade e Finanças Públicas.\nDocente no Instituto Politécnic
 o de Viana do Castelo para lecionação de unidade curricular “Complemen
 tos de Contabilidade e Finanças Públicas” do mestrado de Contabilidade
  e Finanças.\nDocente no Instituto Politécnico de Bragança para leciona
 ção da unidade curricular “Auditoria Pública e Controlo Interno”\, 
 da Pós-Graduação em Gestão Pública e do Módulo “Ativos Não Corren
 tes” da Pós-Graduação sobre SNC-AP.\nDocente na Universidade Lusíada
 \, Vila Nova de Famalicão.\nFormadora desde 1997 nas áreas de Contabilid
 ade Pública\, Finanças Públicas\, Património Público\, Auditoria e Co
 ntrolo Interno.\nFormadora na área do “Sistema de Normalização Contab
 ilista para as Administrações Públicas (SNC-AP)\, tendo monitorado um t
 otal de 129 horas.\nDESTINATÁRIOS\nMUNICÍPIOS DA RAM: Eleitos\, Dirigent
 es e Quadros das Autarquias e das Empresas Municipais\n\nHORÁRIO\n9h00 In
 ício dos trabalhos 14h00 Reinício\n11h00 Pausa para café 16h00 Pausa pa
 ra café\n12h30 Pausa para almoço livre 17h30 Encerramento\n\nINSCRIÇÕE
 S\nAté dois participantes por Município.\nAs inscrições devem ser feit
 as até ao dia 5 de novembro de 2025.\n[Só serão aceites mais do que 3 p
 articipantes por Município\, caso não estejam preenchidas\, naquela data
 \, o número limite de inscrições\, sendo dada prioridade à ordem de re
 ceção das inscrições].\n\nInclui:\nDocumentação\;\nCertificado de pa
 rticipação.\n\nCANCELAMENTO DA AÇÃO\nA AMRAM reserva-se o direito de c
 ancelar a ação\, caso o número mínimo de participantes não seja ating
 ido\, ou por outra razão que justifique a sua não realização.\n\nINFOR
 MAÇÕES\nDra. Zélia Rodrigues\nTelef.: 291 200 730\n\n
ATTACH;FMTTYPE=image/jpeg:https://www.amram.pt/wp-content/uploads/empresar
 io-trabalhando-com-contas-scaled.jpg
LOCATION:Edifício Sede da AMRAM\, Rua da Mouraria n.º44 e 46\, Funchal\, 
 Portugal\, 9004-508\, Funchal\, Portugal
X-APPLE-STRUCTURED-LOCATION;VALUE=URI;X-ADDRESS=Rua da Mouraria n.º44 e 46
 \, Funchal\, Portugal\, 9004-508\, Funchal\, Portugal;X-APPLE-RADIUS=100;X
 -TITLE=Edifício Sede da AMRAM:geo:0,0
END:VEVENT
BEGIN:VTIMEZONE
TZID:Europe/Lisbon
X-LIC-LOCATION:Europe/Lisbon
BEGIN:STANDARD
DTSTART:20251026T010000
TZOFFSETFROM:+0100
TZOFFSETTO:+0000
TZNAME:WET
END:STANDARD
END:VTIMEZONE
END:VCALENDAR